Workbook
Name \p: #REF!
Name \p: #REF!
Name \x: '[1]US Corn Margin 75-04'!#REF!
Name \x: '[1]US Corn Margin 75-04'!#REF!
Name _: #REF!
Name _: #REF!
Name ___________r: #REF!
Name __________r: #REF!
Name _________r: #REF!
Name ________r: #REF!
Name _______r: #REF!
Name ______r: #REF!
Name _____r: #REF!
Name ____r: #REF!
Name ___r: #REF!
Name __r: #REF!
Name _1_: #REF!
Name _121_201_103: #REF!
Name _2_: #REF!
Name _3_: #REF!
Name _bal0296: [3]Plan1!$A$1:$F$238
Name _Bal0497: [3]Plan1!$A$1:$F$517
Name _bal1196: [3]Plan1!$A$1:$F$596
Name _bdg2000: [3]Plan1!$A$1:$AH$101
Name _DRE1: #REF!
Name _JHS10: [5]investimentos!#REF!
Name _JHS16: #REF!
Name _JHS2: #REF!
Name _JHS3: #REF!
Name _r: #REF!
Name _Regression_Int: 1
Name a: [7]!a
Name A_impresión_IM: #REF!
Name aadsad: #REF!
Name acum: #REF!
Name ADECO: [9]TRACTOR!#REF!
Name Ano: #REF!
Name apaga: [10]!apaga
Name APAT: #REF!
Name APAT1: #REF!
Name area_bal: #REF!
Name AREA1: #REF!
Name AREA1: #REF!
Name AREA2: #REF!
Name AREA2: #REF!
Name AREA3: #REF!
Name areas: #REF!
Name AUTOEXEC: [11]TRACTOR!#REF!
Name b: #REF!
Name b: #REF!
Name BANCO: #REF!
Name BANCO: #REF!
Name BankLeague: #REF!
Name BankLeague: #REF!
Name BASE: #REF!
Name bimestre: #REF!
Name BTESTE: #REF!
Name C_: #N/A
Name Cambio: [15]PRECIOS!$F$30
Name CAMBIO1: '[16]Tablero Controle'!$F$69

Sheet Cover

Sheet 1. Total Cash Cost Evolution 
B1: Total Cash Cost Evolution
B6: Important Notes:
B7: (i) ICMS tax rebate can be considered either as a cost reduction, or as an increase in price. From a management perspective, it is considered an increase in price to decide whether to maximize ethanol or sugar. In cell C10, you can choose how you want to consider it.
B8: (ii) From an accounting perspective, freight cost for sugar is included in SG&A. However, to make the price comparable to ethanol, it can be deducted from price. In fact, ethanol is sold ex mill. In cell C11, you can choose how you want to consider it.
A10: x | B10: Tax Recovery Effect | C10: Cost | BD10: SG&A | BE10: SG&A
B11: Freight Cost - Sugar | C11: SG&A | BD11: Cost | BE11: Price
BD12: Price | BE12: Price
A13: x | B13: Operational Metrics | C13: 2016 | D13: 2017 | E13: 2018 | G13: 2019 | H13: 2020 | I13: 2021 | K13: 2022 | L13: 2023 | M13: 2024 | O13: 2025
B14: Milling | C14: 11114.509 | D14: 10241.803 | E14: 11359.204 | G14: 10845.136 | H14: 11103.2 | I14: 10940.307 | K14: 10484.888 | L14: 12497.423 | M14: 12762.597 | O14: 12145.212
B15: TRS content | C15: 127.34782 | D15: 127.01385 | E15: 127.61692 | G15: 132.92953 | H15: 131.52128 | I15: 127.83652 | K15: 130.67328 | L15: 131.6449 | M15: 132.3843 | O15: 127.49717
B16: Lb per Kg | C16: 2.204622 | D16: 2.204622 | E16: 2.204622 | G16: 2.204622 | H16: 2.204622 | I16: 2.204622 | K16: 2.204622 | L16: 2.204622 | M16: 2.204622 | O16: 2.204622
B17: TRS to VHP | C17: 0.95666316 | D17: 0.95666316 | E17: 0.95666316 | G17: 0.95666316 | H17: 0.95666316 | I17: 0.95666316 | K17: 0.95666316 | L17: 0.95666316 | M17: 0.95666316 | O17: 0.95666316
A19: x | B19: Fixed Share
B20: Industrial Cost | C20: 0.8
B21: Agricultural Cost | C21: 0.8
B22: SG&A | C22: 0.25
C24: Fiscal Year 2016 | G24: Fiscal Year 2017 | K24: Fiscal Year 2018 | O24: Fiscal Year 2019 | S24: Fiscal Year 2020 | W24: Fiscal Year 2021 | AA24: Fiscal Year 2022 | AE24: Fiscal Year 2023 | AI24: Fiscal Year 2024 | AM24: Fiscal Year 2025
A25: x | B25: Total Cash Cost | C25: USD | D25: $/Ton | E25: $/Lb | G25: USD | H25: $/Ton | I25: $/Lb | K25: USD | L25: $/Ton | M25: $/Lb | O25: USD | P25: $/Ton | Q25: $/Lb | S25: USD | T25: $/Ton | U25: $/Lb | W25: USD | X25: $/Ton | Y25: $/Lb | AA25: USD | AB25: $/Ton | AC25: $/Lb | AE25: USD | AF25: $/Ton | AG25: $/Lb | AI25: USD | AJ25: $/Ton | AK25: $/Lb | AM25: USD | AN25: $/Ton | AO25: $/Lb | AQ25: Where to find it?
B26: Industrial Costs | C26: =+C27+C29+C28 -> 58387.635 | D26: =+D27+D29+D28 -> 5.2532809 | E26: =+E27+E29+E28 -> 1.9558967 | G26: =+G27+G29+G28 -> 76911.578 | H26: =+H27+H29+H28 -> 7.5095744 | I26: =+I27+I29+I28 -> 2.8033095 | K26: =+K27+K29+K28 -> 53072.976 | L26: =+L27+L29+L28 -> 4.6722444 | M26: =+M27+M29+M28 -> 1.7358976 | O26: =+O27+O29+O28 -> 48707.028 | P26: =+P27+P29+P28 -> 4.4911404 | Q26: =+Q27+Q29+Q28 -> 1.6019243 | S26: =+S27+S29+S28 -> 48861.762 | T26: =+T27+T29+T28 -> 4.4006919 | U26: =+U27+U29+U28 -> 1.5864696 | W26: =+W27+W29+W28 -> 56666.107 | X26: =+X27+X29+X28 -> 5.1795721 | Y26: =+Y27+Y29+Y28 -> 1.9210814 | AA26: =+AA27+AA29+AA28 -> 72157 | AB26: =+AB27+AB29+AB28 -> 6.8819998 | AC26: =+AC27+AC29+AC28 -> 2.4970927 | AE26: =+AE27+AE29+AE28 -> 91026 | AF26: =+AF27+AF29+AF28 -> 7.2835818 | AG26: =+AG27+AG29+AG28 -> 2.6232988 | AI26: =+AI27+AI29+AI28 -> 76901 | AJ26: =+AJ27+AJ29+AJ28 -> 6.0254979 | AK26: =+AK27+AK29+AK28 -> 2.1580587 | AM26: =+AM27+AM29+AM28 -> 61691 | AN26: =+AN27+AN29+AN28 -> 5.07945 | AO26: =+AO27+AO29+AO28 -> 1.8889608
B27: Industrial Costs | C27: 56053.115 | D27: =+C27/$C$14 -> 5.0432383 | E27: =+(C27/($C$14*$C$15*$C$17)/$C$16)*100 -> 1.8776938 | G27: 71228.962 | H27: =+G27/$D$14 -> 6.9547291 | I27: =+(G27/($D$14*$D$15*$D$17)/$D$16)*100 -> 2.5961868 | K27: 72298.529 | L27: =+K27/$E$14 -> 6.3647533 | M27: =+(K27/($E$14*$E$15*$E$17)/$E$16)*100 -> 2.3647221 | O27: 72184.804 | P27: =+O27/$G$14 -> 6.6559612 | Q27: =+(O27/($G$14*$G$15*$G$17)/$G$16)*100 -> 2.3740843 | S27: 53377.08 | T27: =+S27/$H$14 -> 4.80736 | U27: =+(S27/($H$14*$H$15*$H$17)/$H$16)*100 -> 1.7330753 | W27: 64614.166 | X27: =+W27/$I$14 -> 5.9060654 | Y27: =+(W27/($I$14*$I$15*$I$17)/$I$16)*100 -> 2.1905346 | AA27: 78243.915 | AB27: =+AA27/$K$14 -> 7.4625415 | AC27: =+(AA27/($K$14*$K$15*$K$17)/$K$16)*100 -> 2.7077388 | AE27: 81683 | AF27: =+AE27/$L$14 -> 6.5359876 | AG27: =+(AE27/($L$14*$L$15*$L$17)/$L$16)*100 -> 2.3540408 | AI27: 74258 | AJ27: =+AI27/$M$14 -> 5.8184084 | AK27: =+(AI27/($M$14*$M$15*$M$17)/$M$16)*100 -> 2.0838887 | AM27: 65454 | AN27: =+AM27/$O$14 -> 5.3892841 | AO27: =+(AM27/($O$14*$O$15*$O$17)/$O$16)*100 -> 2.0041828 | AQ27: Earning Release, Sugar, Ethanol & Energy, Total production Costs
B28: Tax Recovery | C28: =+IF(C10="Cost",-24220.7201078534,0) -> -24220.72 | D28: =+C28/$C$14 -> -2.1791985 | E28: =+(C28/($C$14*$C$15*$C$17)/$C$16)*100 -> -0.81135717 | G28: =+IF(C10="Cost",-28477.8928907343,0) -> -28477.893 | H28: =+G28/$D$14 -> -2.7805548 | I28: =+(G28/($D$14*$D$15*$D$17)/$D$16)*100 -> -1.0379757 | K28: =+IF(C10="Cost",-32380,0) -> -32380 | L28: =+K28/$E$14 -> -2.8505519 | M28: =+(K28/($E$14*$E$15*$E$17)/$E$16)*100 -> -1.0590769 | O28: =+IF(C10="Cost",-34721.5,0) -> -34721.5 | P28: =+O28/$G$14 -> -3.2015735 | Q28: =+(O28/($G$14*$G$15*$G$17)/$G$16)*100 -> -1.1419546 | S28: =+IF(C10="Cost",-18062,0) -> -18062 | T28: =+S28/$H$14 -> -1.6267382 | U28: =+(S28/($H$14*$H$15*$H$17)/$H$16)*100 -> -0.58644659 | W28: =IF(C10="Cost",-23367,0) -> -23367 | X28: =+W28/$I$14 -> -2.1358634 | Y28: =+(W28/($I$14*$I$15*$I$17)/$I$16)*100 -> -0.79218267 | AA28: =IF(C10="Cost",-19779.9326479814,0) -> -19779.933 | AB28: =+AA28/$K$14 -> -1.8865182 | AC28: =+(AA28/($K$14*$K$15*$K$17)/$K$16)*100 -> -0.6845119 | AE28: =+IF(C10="Cost",-22626,0) -> -22626 | AF28: =+AE28/$L$14 -> -1.8104533 | AG28: =+(AE28/($L$14*$L$15*$L$17)/$L$16)*100 -> -0.6520638 | AI28: =+IF(C10="Cost",-36992,0) -> -36992 | AJ28: =+AI28/$M$14 -> -2.8984697 | AK28: =+(AI28/($M$14*$M$15*$M$17)/$M$16)*100 -> -1.0380997 | AM28: =+IF(C10="Cost",-42178,0) -> -42178 | AN28: =+AM28/$O$14 -> -3.4728087 | AO28: =+(AM28/($O$14*$O$15*$O$17)/$O$16)*100 -> -1.2914783 | AQ28: Earning Release, Sugar, Ethanol & Energy, Total Cost of Production
B29: 3rd party cane | C29: 26555.24 | D29: =+C29/$C$14 -> 2.389241 | E29: =+(C29/($C$14*$C$15*$C$17)/$C$16)*100 -> 0.88956003 | G29: 34160.509 | H29: =+G29/$D$14 -> 3.3354001 | I29: =+(G29/($D$14*$D$15*$D$17)/$D$16)*100 -> 1.2450983 | K29: 13154.447 | L29: =+K29/$E$14 -> 1.158043 | M29: =+(K29/($E$14*$E$15*$E$17)/$E$16)*100 -> 0.43025234 | O29: 11243.724 | P29: =+O29/$G$14 -> 1.0367527 | Q29: =+(O29/($G$14*$G$15*$G$17)/$G$16)*100 -> 0.36979457 | S29: 13546.683 | T29: =+S29/$H$14 -> 1.2200701 | U29: =+(S29/($H$14*$H$15*$H$17)/$H$16)*100 -> 0.43984087 | W29: 15418.942 | X29: =+W29/$I$14 -> 1.4093702 | Y29: =+(W29/($I$14*$I$15*$I$17)/$I$16)*100 -> 0.52272942 | AA29: 13693.017 | AB29: =+AA29/$K$14 -> 1.3059765 | AC29: =+(AA29/($K$14*$K$15*$K$17)/$K$16)*100 -> 0.47386579 | AE29: 31969 | AF29: =+AE29/$L$14 -> 2.5580474 | AG29: =+(AE29/($L$14*$L$15*$L$17)/$L$16)*100 -> 0.92132182 | AI29: 39635 | AJ29: =+AI29/$M$14 -> 3.1055592 | AK29: =+(AI29/($M$14*$M$15*$M$17)/$M$16)*100 -> 1.1122698 | AM29: 38415 | AN29: =+AM29/$O$14 -> 3.1629747 | AO29: =+(AM29/($O$14*$O$15*$O$17)/$O$16)*100 -> 1.1762564 | AQ29: Earning Release, Sugar, Ethanol & Energy, Total production Costs
B30: Agricultural Costs | C30: =+C31+C33+C32+C34 -> 243948.31 | D30: =+D31+D33+D32+D34 -> 21.948637 | E30: =+E31+E33+E32+E34 -> 8.1718964 | G30: =+G31+G33+G32+G34 -> 265308.26 | H30: =+H31+H33+H32+H34 -> 25.90445 | I30: =+I31+I33+I32+I34 -> 9.6700806 | K30: =+K31+K33+K32+K34 -> 255686.37 | L30: =+L31+L33+L32+L34 -> 22.509181 | M30: =+M31+M33+M32+M34 -> 8.3629255 | O30: =+O31+O33+O32+O34 -> 271646.75 | P30: =+P31+P33+P32+P34 -> 25.047796 | Q30: =+Q31+Q33+Q32+Q34 -> 8.9341835 | S30: =+S31+S33+S32+S34 -> 197557.75 | T30: =+T31+T33+T32+T34 -> 17.792866 | U30: =+U31+U33+U32+U34 -> 6.4144099 | W30: =+W31+W33+W32+W34 -> 260832.19 | X30: =+X31+X33+X32+X34 -> 23.841397 | Y30: =+Y31+Y33+Y32+Y34 -> 8.842673 | AA30: =+AA31+AA33+AA32+AA34 -> 302905.32 | AB30: =+AB31+AB33+AB32+AB34 -> 28.889703 | AC30: =+AC31+AC33+AC32+AC34 -> 10.482457 | AE30: =+AE31+AE33+AE32+AE34 -> 345684.4 | AF30: =+AF31+AF33+AF32+AF34 -> 27.660455 | AG30: =+AG31+AG33+AG32+AG34 -> 9.9623567 | AI30: =+AI31+AI33+AI32+AI34 -> 362754.45 | AJ30: =+AJ31+AJ33+AJ32+AJ34 -> 28.423248 | AK30: =+AK31+AK33+AK32+AK34 -> 10.179912 | AM30: =+AM31+AM33+AM32+AM34 -> 331940.23 | AN30: =+AN31+AN33+AN32+AN34 -> 27.330953 | AO30: =+AO31+AO33+AO32+AO34 -> 10.163915
B31: Harvest | C31: 110317 | D31: =+C31/$C$14 -> 9.9254951 | E31: =+(C31/($C$14*$C$15*$C$17)/$C$16)*100 -> 3.6954512 | G31: 111018.19 | H31: =+G31/$D$14 -> 10.839712 | I31: =+(G31/($D$14*$D$15*$D$17)/$D$16)*100 -> 4.0464432 | K31: 102275.4 | L31: =+K31/$E$14 -> 9.0037472 | M31: =+(K31/($E$14*$E$15*$E$17)/$E$16)*100 -> 3.3451981 | O31: 103115.69 | P31: =+O31/$G$14 -> 9.5080128 | Q31: =+(O31/($G$14*$G$15*$G$17)/$G$16)*100 -> 3.3913695 | S31: 70380.837 | T31: =+S31/$H$14 -> 6.3387885 | U31: =+(S31/($H$14*$H$15*$H$17)/$H$16)*100 -> 2.2851623 | W31: 89387.841 | X31: =+W31/$I$14 -> 8.170506 | Y31: =+(W31/($I$14*$I$15*$I$17)/$I$16)*100 -> 3.0304061 | AA31: 112908.42 | AB31: =+AA31/$K$14 -> 10.768681 | AC31: =+(AA31/($K$14*$K$15*$K$17)/$K$16)*100 -> 3.907352 | AE31: 134907 | AF31: =+AE31/$L$14 -> 10.794786 | AG31: =+(AE31/($L$14*$L$15*$L$17)/$L$16)*100 -> 3.8879153 | AI31: 138066 | AJ31: =+AI31/$M$14 -> 10.818018 | AK31: =+(AI31/($M$14*$M$15*$M$17)/$M$16)*100 -> 3.8745209 | AM31: 112004 | AN31: =+AM31/$O$14 -> 9.22207 | AO31: =+(AM31/($O$14*$O$15*$O$17)/$O$16)*100 -> 3.4295306 | AQ31: Earning Release, Sugar, Ethanol & Energy, Total production Costs
B32: Cane Depreciation | C32: 42396 | D32: =+C32/$C$14 -> 3.8144737 | E32: =+(C32/($C$14*$C$15*$C$17)/$C$16)*100 -> 1.4202013 | G32: 53920.211 | H32: =+G32/$D$14 -> 5.2647189 | I32: =+(G32/($D$14*$D$15*$D$17)/$D$16)*100 -> 1.9653093 | K32: 60205.503 | L32: =+K32/$E$14 -> 5.3001517 | M32: =+(K32/($E$14*$E$15*$E$17)/$E$16)*100 -> 1.9691865 | O32: 68725.479 | P32: =+O32/$G$14 -> 6.3369865 | Q32: =+(O32/($G$14*$G$15*$G$17)/$G$16)*100 -> 2.2603107 | S32: 49850.847 | T32: =+S32/$H$14 -> 4.4897729 | U32: =+(S32/($H$14*$H$15*$H$17)/$H$16)*100 -> 1.6185837 | W32: 66192.402 | X32: =+W32/$I$14 -> 6.0503242 | Y32: =+(W32/($I$14*$I$15*$I$17)/$I$16)*100 -> 2.2440396 | AA32: 67029.626 | AB32: =+AA32/$K$14 -> 6.3929746 | AC32: =+(AA32/($K$14*$K$15*$K$17)/$K$16)*100 -> 2.3196528 | AE32: 79069 | AF32: =+AE32/$L$14 -> 6.3268245 | AG32: =+(AE32/($L$14*$L$15*$L$17)/$L$16)*100 -> 2.2787073 | AI32: 97890 | AJ32: =+AI32/$M$14 -> 7.6700692 | AK32: =+(AI32/($M$14*$M$15*$M$17)/$M$16)*100 -> 2.7470692 | AM32: 81818 | AN32: =+AM32/$O$14 -> 6.7366462 | AO32: =+(AM32/($O$14*$O$15*$O$17)/$O$16)*100 -> 2.5052439 | AQ32: Earning Release, Sugar, Ethanol & Energy, Total production Costs
B33: Crop Maintenance | C33: 52855.317 | D33: =+C33/$C$14 -> 4.7555244 | E33: =+(C33/($C$14*$C$15*$C$17)/$C$16)*100 -> 1.7705725 | G33: 59288.353 | H33: =+G33/$D$14 -> 5.7888592 | I33: =+(G33/($D$14*$D$15*$D$17)/$D$16)*100 -> 2.1609699 | K33: 58539.673 | L33: =+K33/$E$14 -> 5.1535015 | M33: =+(K33/($E$14*$E$15*$E$17)/$E$16)*100 -> 1.9147009 | O33: 67433.693 | P33: =+O33/$G$14 -> 6.2178744 | Q33: =+(O33/($G$14*$G$15*$G$17)/$G$16)*100 -> 2.2178251 | S33: 51371.832 | T33: =+S33/$H$14 -> 4.6267591 | U33: =+(S33/($H$14*$H$15*$H$17)/$H$16)*100 -> 1.6679679 | W33: 62884.354 | X33: =+W33/$I$14 -> 5.7479517 | Y33: =+(W33/($I$14*$I$15*$I$17)/$I$16)*100 -> 2.1318909 | AA33: 72396.945 | AB33: =+AA33/$K$14 -> 6.9048846 | AC33: =+(AA33/($K$14*$K$15*$K$17)/$K$16)*100 -> 2.5053963 | AE33: 79361.398 | AF33: =+AE33/$L$14 -> 6.3502212 | AG33: =+(AE33/($L$14*$L$15*$L$17)/$L$16)*100 -> 2.287134 | AI33: 80052.453 | AJ33: =+AI33/$M$14 -> 6.2724267 | AK33: =+(AI33/($M$14*$M$15*$M$17)/$M$16)*100 -> 2.2464974 | AM33: 100398.23 | AN33: =+AM33/$O$14 -> 8.2664865 | AO33: =+(AM33/($O$14*$O$15*$O$17)/$O$16)*100 -> 3.0741654 | AQ33: Earning Release, Sugar, Ethanol & Energy, Total production Costs
B34: Leasing | C34: 38379.998 | D34: =+C34/$C$14 -> 3.453144 | E34: =+(C34/($C$14*$C$15*$C$17)/$C$16)*100 -> 1.2856714 | G34: 41081.509 | H34: =+G34/$D$14 -> 4.0111601 | I34: =+(G34/($D$14*$D$15*$D$17)/$D$16)*100 -> 1.4973582 | K34: 34665.793 | L34: =+K34/$E$14 -> 3.0517803 | M34: =+(K34/($E$14*$E$15*$E$17)/$E$16)*100 -> 1.1338401 | O34: 32371.885 | P34: =+O34/$G$14 -> 2.984922 | Q34: =+(O34/($G$14*$G$15*$G$17)/$G$16)*100 -> 1.0646782 | S34: 25954.239 | T34: =+S34/$H$14 -> 2.3375458 | U34: =+(S34/($H$14*$H$15*$H$17)/$H$16)*100 -> 0.842696 | W34: 42367.594 | X34: =+W34/$I$14 -> 3.8726149 | Y34: =+(W34/($I$14*$I$15*$I$17)/$I$16)*100 -> 1.4363365 | AA34: 50570.327 | AB34: =+AA34/$K$14 -> 4.823163 | AC34: =+(AA34/($K$14*$K$15*$K$17)/$K$16)*100 -> 1.750056 | AE34: 52347 | AF34: =+AE34/$L$14 -> 4.1886236 | AG34: =+(AE34/($L$14*$L$15*$L$17)/$L$16)*100 -> 1.5086 | AI34: 46746 | AJ34: =+AI34/$M$14 -> 3.6627342 | AK34: =+(AI34/($M$14*$M$15*$M$17)/$M$16)*100 -> 1.3118245 | AM34: 37720 | AN34: =+AM34/$O$14 -> 3.1057505 | AO34: =+(AM34/($O$14*$O$15*$O$17)/$O$16)*100 -> 1.1549757 | AQ34: Earning Release, Sugar, Ethanol & Energy, Total production Costs
B35: Total Production Cost | C35: =+C26+C30 -> 302335.95 | D35: =+D26+D30 -> 27.201918 | E35: =+E26+E30 -> 10.127793 | G35: =+G26+G30 -> 342219.84 | H35: =+H26+H30 -> 33.414024 | I35: =+I26+I30 -> 12.47339 | K35: =+K26+K30 -> 308759.34 | L35: =+L26+L30 -> 27.181425 | M35: =+M26+M30 -> 10.098823 | O35: =+O26+O30 -> 320353.78 | P35: =+P26+P30 -> 29.538936 | Q35: =+Q26+Q30 -> 10.536108 | S35: =+S26+S30 -> 246419.52 | T35: =+T26+T30 -> 22.193558 | U35: =+U26+U30 -> 8.0008795 | W35: =+W26+W30 -> 317498.3 | X35: =+X26+X30 -> 29.020969 | Y35: =+Y26+Y30 -> 10.763754 | AA35: =+AA26+AA30 -> 375062.32 | AB35: =+AB26+AB30 -> 35.771703 | AC35: =+AC26+AC30 -> 12.97955 | AE35: =+AE26+AE30 -> 436710.4 | AF35: =+AF26+AF30 -> 34.944037 | AG35: =+AG26+AG30 -> 12.585655 | AI35: =+AI26+AI30 -> 439655.45 | AJ35: =+AJ26+AJ30 -> 34.448746 | AK35: =+AK26+AK30 -> 12.337971 | AM35: =+AM26+AM30 -> 393631.23 | AN35: =+AN26+AN30 -> 32.410403 | AO35: =+AO26+AO30 -> 12.052876
B36: SG&A(1) | C36: =-C68+IF(C11="SG&A",0,'1. Total Cash Cost Evolution '!C63) -> 57233.29 | D36: =+C36/$C$14 -> 5.1494215 | E36: =+(C36/($C$14*$C$15*$C$17)/$C$16)*100 -> 1.9172279 | G36: =-D68+IF(C11="SG&A",0,D63) -> 66082.972 | H36: =+G36/$D$14 -> 6.4522794 | I36: =+(G36/($D$14*$D$15*$D$17)/$D$16)*100 -> 2.4086233 | K36: =-E68+IF(C11="SG&A",0,E63) -> 54330.514 | L36: =+K36/$E$14 -> 4.782951 | M36: =+(K36/($E$14*$E$15*$E$17)/$E$16)*100 -> 1.7770288 | O36: =-G68+IF($C$11="SG&A",0,G63) -> 45232.06 | P36: =+O36/$G$14 -> 4.1707232 | Q36: =+(O36/($G$14*$G$15*$G$17)/$G$16)*100 -> 1.4876362 | S36: =-H68+IF($C$11="SG&A",0,H63) -> 40962.566 | T36: =+S36/$H$14 -> 3.6892577 | U36: =+(S36/($H$14*$H$15*$H$17)/$H$16)*100 -> 1.3299943 | W36: =-I68+IF($C$11="SG&A",0,I63) -> 45185.557 | X36: =+W36/$I$14 -> 4.1301911 | Y36: =+(W36/($I$14*$I$15*$I$17)/$I$16)*100 -> 1.5318704 | AA36: =-K68+IF($C$11="SG&A",0,K63) -> 50311 | AB36: =+AA36/$K$14 -> 4.7984297 | AC36: =+(AA36/($K$14*$K$15*$K$17)/$K$16)*100 -> 1.7410817 | AE36: =-L68+IF($C$11="SG&A",0,L63) -> 73721 | AF36: =+AE36/$L$14 -> 5.8988963 | AG36: =+(AE36/($L$14*$L$15*$L$17)/$L$16)*100 -> 2.1245821 | AI36: =-M68+IF($C$11="SG&A",0,M63) -> 69493 | AJ36: =+AI36/$M$14 -> 5.4450518 | AK36: =+(AI36/($M$14*$M$15*$M$17)/$M$16)*100 -> 1.9501694 | AM36: =-O68+IF($C$11="SG&A",0,O63) -> 66225 | AN36: =+AM36/$O$14 -> 5.4527659 | AO36: =+(AM36/($O$14*$O$15*$O$17)/$O$16)*100 -> 2.0277906 | AQ36: Note 3 of the Financial Statements, segment information, SG&A - (gross sales - net sales)
B37: Total Production Cost + Expenses | C37: =C35+C36 -> 359569.24 | D37: =D35+D36 -> 32.35134 | E37: =E35+E36 -> 12.045021 | G37: =G35+G36 -> 408302.81 | H37: =H35+H36 -> 39.866304 | I37: =I35+I36 -> 14.882013 | K37: =K35+K36 -> 363089.86 | L37: =L35+L36 -> 31.964376 | M37: =M35+M36 -> 11.875852 | O37: =O35+O36 -> 365585.84 | P37: =P35+P36 -> 33.709659 | Q37: =Q35+Q36 -> 12.023744 | S37: =S35+S36 -> 287382.08 | T37: =T35+T36 -> 25.882816 | U37: =U35+U36 -> 9.3308738 | W37: =W35+W36 -> 362683.86 | X37: =X35+X36 -> 33.15116 | Y37: =Y35+Y36 -> 12.295625 | AA37: =AA35+AA36 -> 425373.32 | AB37: =AB35+AB36 -> 40.570133 | AC37: =AC35+AC36 -> 14.720631 | AE37: =AE35+AE36 -> 510431.4 | AF37: =AF35+AF36 -> 40.842933 | AG37: =AG35+AG36 -> 14.710238 | AI37: =AI35+AI36 -> 509148.45 | AJ37: =AJ35+AJ36 -> 39.893798 | AK37: =AK35+AK36 -> 14.28814 | AM37: =AM35+AM36 -> 459856.23 | AN37: =AN35+AN36 -> 37.863169 | AO37: =AO35+AO36 -> 14.080667
B38: Depreciation | C38: -122208 | D38: =+C38/$C$14 -> -10.995358 | E38: =+(C38/($C$14*$C$15*$C$17)/$C$16)*100 -> -4.0937816 | G38: -144448.84 | H38: =+G38/$D$14 -> -14.103849 | I38: =+(G38/($D$14*$D$15*$D$17)/$D$16)*100 -> -5.2649395 | K38: -143201.83 | L38: =+K38/$E$14 -> -12.606678 | M38: =+(K38/($E$14*$E$15*$E$17)/$E$16)*100 -> -4.6838094 | O38: -157657 | P38: =+O38/$G$14 -> -14.537116 | Q38: =+(O38/($G$14*$G$15*$G$17)/$G$16)*100 -> -5.1851774 | S38: -122515 | T38: =+S38/$H$14 -> -11.034206 | U38: =+(S38/($H$14*$H$15*$H$17)/$H$16)*100 -> -3.977882 | W38: -143981.05 | X38: =+W38/$I$14 -> -13.160605 | Y38: =+(W38/($I$14*$I$15*$I$17)/$I$16)*100 -> -4.8812125 | AA38: -160919.91 | AB38: =+AA38/$K$14 -> -15.347794 | AC38: =+(AA38/($K$14*$K$15*$K$17)/$K$16)*100 -> -5.5688559 | AE38: -175903 | AF38: =+AE38/$L$14 -> -14.075142 | AG38: =+(AE38/($L$14*$L$15*$L$17)/$L$16)*100 -> -5.0693882 | AI38: -189007 | AJ38: =+AI38/$M$14 -> -14.809447 | AK38: =+(AI38/($M$14*$M$15*$M$17)/$M$16)*100 -> -5.3040689 | AM38: -148710 | AN38: =+AM38/$O$14 -> -12.244331 | AO38: =+(AM38/($O$14*$O$15*$O$17)/$O$16)*100 -> -4.5534578 | AQ38: Note 3 of the Financial Statements, segment information, Depreciation & Amortization line
B39: Cash Cost | C39: =+C37+C38 -> 237361.24 | D39: =+D37+D38 -> 21.355982 | E39: =+E37+E38 -> 7.9512394 | G39: =+G37+G38 -> 263853.97 | H39: =+H37+H38 -> 25.762454 | I39: =+I37+I38 -> 9.617074 | K39: =+K37+K38 -> 219888.03 | L39: =+L37+L38 -> 19.357698 | M39: =+M37+M38 -> 7.1920426 | O39: =+O37+O38 -> 207928.84 | P39: =+P37+P38 -> 19.172543 | Q39: =+Q37+Q38 -> 6.8385666 | S39: =+S37+S38 -> 164867.08 | T39: =+T37+T38 -> 14.84861 | U39: =+U37+U38 -> 5.3529919 | W39: =+W37+W38 -> 218702.81 | X39: =+X37+X38 -> 19.990555 | Y39: =+Y37+Y38 -> 7.4144123 | AA39: =+AA37+AA38 -> 264453.41 | AB39: =+AB37+AB38 -> 25.222339 | AC39: =+AC37+AC38 -> 9.1517756 | AE39: =+AE37+AE38 -> 334528.4 | AF39: =+AF37+AF38 -> 26.767791 | AG39: =+AG37+AG38 -> 9.6408494 | AI39: =+AI37+AI38 -> 320141.45 | AJ39: =+AJ37+AJ38 -> 25.084351 | AK39: =+AK37+AK38 -> 8.9840711 | AM39: =+AM37+AM38 -> 311146.23 | AN39: =+AN37+AN38 -> 25.618838 | AO39: =+AO37+AO38 -> 9.5272091
B40: Recurring Capex(2) | C40: 80683.134 | D40: =+D41+D42+D43 -> 7.2592624 | E40: =+E41+E42+E43 -> 2.7027619 | G40: =+G41+G42+G43 -> 122522.61 | H40: =+H41+H42+H43 -> 11.962993 | I40: =+I41+I42+I43 -> 4.4657621 | K40: =+K41+K42+K43 -> 117269 | L40: =+L41+L42+L43 -> 10.323699 | M40: =+M41+M42+M43 -> 3.835605 | O40: =+O41+O42+O43 -> 119902.4 | P40: =+P41+P42+P43 -> 11.055869 | Q40: =+Q41+Q42+Q43 -> 3.9434671 | S40: =+S41+S42+S43 -> 105419.63 | T40: =+S40/$H$14 -> 9.4945271 | U40: =+(S40/($H$14*$H$15*$H$17)/$H$16)*100 -> 3.4228205 | W40: =+W41+W42+W43 -> 127908.55 | X40: =+W40/$I$14 -> 11.691496 | Y40: =+(W40/($I$14*$I$15*$I$17)/$I$16)*100 -> 4.3363263 | AA40: =+AA41+AA42+AA43 -> 140665.03 | AB40: =+AA40/$K$14 -> 13.415978 | AC40: =+(AA40/($K$14*$K$15*$K$17)/$K$16)*100 -> 4.8679079 | AE40: =+AE41+AE42+AE43 -> 175540.9 | AF40: =+AE40/$L$14 -> 14.046168 | AG40: =+(AE40/($L$14*$L$15*$L$17)/$L$16)*100 -> 5.0589529 | AI40: =+AI41+AI42+AI43 -> 157573.31 | AJ40: =+AI40/$M$14 -> 12.346493 | AK40: =+(AI40/($M$14*$M$15*$M$17)/$M$16)*100 -> 4.4219509 | AM40: =+AM41+AM42+AM43 -> 133191.08 | AN40: =+AM40/$O$14 -> 10.96655 | AO40: =+(AM40/($O$14*$O$15*$O$17)/$O$16)*100 -> 4.078273
B41: Planting Renewal | C41: 45741.455 | D41: =+C41/$C$14 -> 4.1154725 | E41: =+(C41/($C$14*$C$15*$C$17)/$C$16)*100 -> 1.5322689 | G41: 51142.422 | H41: =+G41/$D$14 -> 4.9934981 | I41: =+(G41/($D$14*$D$15*$D$17)/$D$16)*100 -> 1.8640631 | K41: 57531 | L41: =+K41/$E$14 -> 5.0647037 | M41: =+(K41/($E$14*$E$15*$E$17)/$E$16)*100 -> 1.8817095 | O41: 50176.268 | P41: =+O41/$G$14 -> 4.626615 | Q41: =+(O41/($G$14*$G$15*$G$17)/$G$16)*100 -> 1.6502461 | S41: 38607.29 | T41: =+S41/$H$14 -> 3.4771318 | U41: =+(S41/($H$14*$H$15*$H$17)/$H$16)*100 -> 1.2535219 | W41: 55728.211 | X41: =+W41/$I$14 -> 5.0938436 | Y41: =+(W41/($I$14*$I$15*$I$17)/$I$16)*100 -> 1.889285 | AA41: 72915.741 | AB41: =+AA41/$K$14 -> 6.9543649 | AC41: =+(AA41/($K$14*$K$15*$K$17)/$K$16)*100 -> 2.52335 | AE41: 101157 | AF41: =+AE41/$L$14 -> 8.0942289 | AG41: =+(AE41/($L$14*$L$15*$L$17)/$L$16)*100 -> 2.9152664 | AI41: 75649 | AJ41: =+AI41/$M$14 -> 5.9273988 | AK41: =+(AI41/($M$14*$M$15*$M$17)/$M$16)*100 -> 2.1229241 | AM41: 68509 | AN41: =+AM41/$O$14 -> 5.6408235 | AO41: =+(AM41/($O$14*$O$15*$O$17)/$O$16)*100 -> 2.0977261 | AQ41: Earnings Release, Capital Expenditures & Investments table
B42: Interharvest | C42: 21398.835 | D42: =+C42/$C$14 -> 1.9253064 | E42: =+(C42/($C$14*$C$15*$C$17)/$C$16)*100 -> 0.71682832 | G42: 40699.49 | H42: =+G42/$D$14 -> 3.9738601 | I42: =+(G42/($D$14*$D$15*$D$17)/$D$16)*100 -> 1.4834342 | K42: 35258 | L42: =+K42/$E$14 -> 3.1039148 | M42: =+(K42/($E$14*$E$15*$E$17)/$E$16)*100 -> 1.1532098 | O42: 45180 | P42: =+O42/$G$14 -> 4.1659229 | Q42: =+(O42/($G$14*$G$15*$G$17)/$G$16)*100 -> 1.485924 | S42: 46452.176 | T42: =+S42/$H$14 -> 4.1836746 | U42: =+(S42/($H$14*$H$15*$H$17)/$H$16)*100 -> 1.5082339 | W42: 42552.592 | X42: =+W42/$I$14 -> 3.8895246 | Y42: =+(W42/($I$14*$I$15*$I$17)/$I$16)*100 -> 1.4426082 | AA42: 49519.029 | AB42: =+AA42/$K$14 -> 4.7228952 | AC42: =+(AA42/($K$14*$K$15*$K$17)/$K$16)*100 -> 1.7136744 | AE42: 47546.301 | AF42: =+AE42/$L$14 -> 3.8044885 | AG42: =+(AE42/($L$14*$L$15*$L$17)/$L$16)*100 -> 1.3702476 | AI42: 44844.404 | AJ42: =+AI42/$M$14 -> 3.5137366 | AK42: =+(AI42/($M$14*$M$15*$M$17)/$M$16)*100 -> 1.2584603 | AM42: 34451.068 | AN42: =+AM42/$O$14 -> 2.8365965 | AO42: =+(AM42/($O$14*$O$15*$O$17)/$O$16)*100 -> 1.0548819
B43: Agricultural Equipment | C43: 13542.845 | D43: =+C43/$C$14 -> 1.2184835 | E43: =+(C43/($C$14*$C$15*$C$17)/$C$16)*100 -> 0.45366465 | G43: 30680.702 | H43: =+G43/$D$14 -> 2.995635 | I43: =+(G43/($D$14*$D$15*$D$17)/$D$16)*100 -> 1.1182647 | K43: 24480 | L43: =+K43/$E$14 -> 2.1550807 | M43: =+(K43/($E$14*$E$15*$E$17)/$E$16)*100 -> 0.8006857 | O43: 24546.129 | P43: =+O43/$G$14 -> 2.2633307 | Q43: =+(O43/($G$14*$G$15*$G$17)/$G$16)*100 -> 0.80729706 | S43: 20360.168 | T43: =+S43/$H$14 -> 1.8337207 | U43: =+(S43/($H$14*$H$15*$H$17)/$H$16)*100 -> 0.66106471 | W43: 29627.748 | X43: =+W43/$I$14 -> 2.7081278 | Y43: =+(W43/($I$14*$I$15*$I$17)/$I$16)*100 -> 1.0044331 | AA43: 18230.265 | AB43: =+AA43/$K$14 -> 1.7387181 | AC43: =+(AA43/($K$14*$K$15*$K$17)/$K$16)*100 -> 0.63088351 | AE43: 26837.604 | AF43: =+AE43/$L$14 -> 2.1474511 | AG43: =+(AE43/($L$14*$L$15*$L$17)/$L$16)*100 -> 0.77343895 | AI43: 37079.903 | AJ43: =+AI43/$M$14 -> 2.9053573 | AK43: =+(AI43/($M$14*$M$15*$M$17)/$M$16)*100 -> 1.0405666 | AM43: 30231.016 | AN43: =+AM43/$O$14 -> 2.4891303 | AO43: =+(AM43/($O$14*$O$15*$O$17)/$O$16)*100 -> 0.92566511
B44: Energy Revenues | C44: -47110 | D44: =+C44/$C$14 -> -4.238604 | E44: =+(C44/($C$14*$C$15*$C$17)/$C$16)*100 -> -1.5781131 | G44: -54495.298 | H44: =+G44/$D$14 -> -5.3208698 | I44: =+(G44/($D$14*$D$15*$D$17)/$D$16)*100 -> -1.9862703 | K44: -50734.461 | L44: =+K44/$E$14 -> -4.4663749 | M44: =+(K44/($E$14*$E$15*$E$17)/$E$16)*100 -> -1.65941 | O44: -53673.036 | P44: =+O44/$G$14 -> -4.9490423 | Q44: =+(O44/($G$14*$G$15*$G$17)/$G$16)*100 -> -1.7652512 | S44: -27832.428 | T44: =+S44/$H$14 -> -2.5067033 | U44: =+(S44/($H$14*$H$15*$H$17)/$H$16)*100 -> -0.90367802 | W44: -36597.189 | X44: =+W44/$I$14 -> -3.3451703 | Y44: =+(W44/($I$14*$I$15*$I$17)/$I$16)*100 -> -1.2407095 | AA44: -27235.505 | AB44: =+AA44/$K$14 -> -2.597596 | AC44: =+(AA44/($K$14*$K$15*$K$17)/$K$16)*100 -> -0.94252228 | AE44: -29040 | AF44: =+AE44/$L$14 -> -2.3236791 | AG44: =+(AE44/($L$14*$L$15*$L$17)/$L$16)*100 -> -0.83691031 | AI44: -26748 | AJ44: =+AI44/$M$14 -> -2.0958117 | AK44: =+(AI44/($M$14*$M$15*$M$17)/$M$16)*100 -> -0.75062424 | AM44: -26540 | AN44: =+AM44/$O$14 -> -2.1852232 | AO44: =+(AM44/($O$14*$O$15*$O$17)/$O$16)*100 -> -0.81264724 | AQ44: Earning Release, Sugar, Ethanol & Energy, Total Cost of Production
B45: Total Cash Cost | C45: =+C39+C40+C44 -> 270934.37 | D45: =+D39+D40+D44 -> 24.37664 | E45: =+E39+E40+E44 -> 9.0758882 | G45: =+G39+G40+G44 -> 331881.29 | H45: =+H39+H40+H44 -> 32.404578 | I45: =+I39+I40+I44 -> 12.096566 | K45: =+K39+K40+K44 -> 286422.57 | L45: =+L39+L40+L44 -> 25.215022 | M45: =+M39+M40+M44 -> 9.3682376 | O45: =+O39+O40+O44 -> 274158.2 | P45: =+P39+P40+P44 -> 25.279369 | Q45: =+Q39+Q40+Q44 -> 9.0167825 | S45: =+S39+S40+S44 -> 242454.29 | T45: =+T39+T40+T44 -> 21.836433 | U45: =+U39+U40+U44 -> 7.8721344 | W45: =+W39+W40+W44 -> 310014.17 | X45: =+X39+X40+X44 -> 28.336881 | Y45: =+Y39+Y40+Y44 -> 10.510029 | AA45: =+AA39+AA40+AA44 -> 377882.94 | AB45: =+AB39+AB40+AB44 -> 36.040721 | AC45: =+AC39+AC40+AC44 -> 13.077161 | AE45: =+AE39+AE40+AE44 -> 481029.3 | AF45: =+AF39+AF40+AF44 -> 38.49028 | AG45: =+AG39+AG40+AG44 -> 13.862892 | AI45: =+AI39+AI40+AI44 -> 450966.76 | AJ45: =+AJ39+AJ40+AJ44 -> 35.335032 | AK45: =+AK39+AK40+AK44 -> 12.655398 | AM45: =+AM39+AM40+AM44 -> 417797.32 | AN45: =+AN39+AN40+AN44 -> 34.400165 | AO45: =+AO39+AO40+AO44 -> 12.792835
B46: ´(1) Does not include sales tax
B47: ´(2) 2019 excludes the impact of IFRS 16 cane depreciation
...

Sheet 2. EBITDA Price 2017-25
B1: EBITDA Price Calculation
A6: x | B6: Operational Metrics
B7: cts/lb to $/ton | C7: 22.0462
B8: ATR ton to Hydrous Ethanol m3 | C8: 1.6761
B9: ATR ton to Anhydrous Ethanol m3 | C9: 1.7651
B10: Sugar ton to ATR eq. | C10: 1.0453
B13: EBITDA Price Calculation | D13: 2017 | E13: 2018 | F13: 2019 | G13: 2020 | H13: 2021 | I13: 2022 | J13: 2023 | K13: 2024 | L13: 2025
A14: x | B14: Sugar Sales | C14: USD ´000 | D14: 304760.66 | E14: 127874.77 | F14: 97200.378 | G14: 167831.87 | H14: 206540 | I14: 181891 | J14: 416165 | K14: 390751 | L14: 266086.79
B15: Sugar Sales | C15: USD ´000 | D15: 220460.46 | E15: 89615.316 | F15: 61810.501 | G15: 167831.87 | H15: 206540 | I15: 181891 | J15: 416165 | K15: 390751 | L15: 252915
B16: Units | C16: tons | D16: 605571.42 | E16: 344234.47 | F16: 217629.51 | G16: 641068.47 | H16: 537502 | I16: 430622.84 | J16: 796297.59 | K16: 845807.42 | L16: 617862.47
B17: Selling Net Price | C17: USD/ton | D17: 364.05361 | E17: 260.3322 | F17: 284.01709 | G17: 261.80023 | H17: 384.25904 | I17: 422.39051 | J17: 522.62496 | K17: 461.98578 | L17: 409.33867
B18: 3rd party sales - Uruguay | C18: USD ´000 | D18: 84300.197 | E18: 38259.455 | F18: 35389.877 | G18: 0 | H18: 0 | I18: 0 | J18: 0 | K18: 0 | L18: 13171.791
B19: Units | C19: tons | D19: 216995.44 | E19: 107274.39 | F19: 119817.15 | G19: 0 | H19: 0 | I19: 0 | J19: 0 | K19: 0 | L19: 37365
B20: Selling Net Price | C20: USD/ton | D20: 388.48833 | E20: 356.65041 | F20: 295.3657 | G20: 0 | H20: 0 | I20: 0 | J20: 0 | K20: 0 | L20: 352.51681
B21: OOI - Sugar | C21: USD ´000 | D21: 34491.279 | E21: 47920.169 | F21: -35.515934 | G21: 2625.308 | H21: -9537.7005 | I21: -2135.7911 | J21: 6034.633 | K21: 10813 | L21: 381
B22: Campaign | C22: USD ´000 | D22: 23511.742 | E22: 37587.819 | F22: 3040 | G22: 9275.2275 | H22: -9829.7144 | I22: -571.73112 | J22: -85.050246 | K22: 10813 | L22: 381
B23: Campaign + 1 | C23: USD ´000 | D23: 10979.537 | E23: 10332.351 | F23: -3075.5159 | G23: -6649.9194 | H23: 292.01396 | I23: -1564.06 | J23: 6119.6833 | K23: 0 | L23: 0
B24: Freight Costs | C24: USD ´000 | D24: -22341 | E24: -11194 | F24: -5914.038 | G24: -16657.31 | H24: -16589.543 | I24: -18079 | J24: -35815 | K24: -30218 | L24: -25350 | O24: EBITDA Price Calculation | Q24: 2017 | R24: 2018 | S24: 2019 | T24: 2020 | U24: 2021 | V24: 2022 | W24: 2023 | X24: 2024 | Y24: 2025
O25: Sugar Price | Q25: =+(D16/(D16+D19))*Q26+(D19/(D16+D19))*Q27+Q28+Q29 -> 18.70757 | R25: =+(E16/(E16+E19))*R26+(E19/(E16+E19))*R27+R28+R29 -> 17.660636 | S25: =+(F16/(F16+F19))*S26+(F19/(F16+F19))*S27+S28+S29 -> 13.060817 | T25: =+(G16/(G16+G19))*T26+(G19/(G16+G19))*T27+T28+T29 -> 12.060829 | U25: =+(H16/(H16+H19))*U26+(H19/(H16+H19))*U27+U28+U29 -> 16.62484 | V25: =+(I16/(I16+I19))*V26+(I19/(I16+I19))*V27+V28+V29 -> 18.934362 | W25: =+(J16/(J16+J19))*W26+(J19/(J16+J19))*W27+W28+W29 -> 24.049647 | X25: =+(K16/(K16+K19))*X26+(K19/(K16+K19))*X27+X28+X29 -> 21.535231 | Y25: =+(L16/(L16+L19))*Y26+(L19/(L16+L19))*Y27+Y28+Y29 -> 18.446708
A26: x | B26: Ethanol Sales | C26: USD ´000 | D26: 216976.02 | E26: 291745.57 | F26: 337100.65 | G26: 180569 | H26: 271543 | I26: 371722 | J26: 233294 | K26: 242854 | L26: 309543 | O26: Average Selling Price | Q26: =+D17/$C$7 -> 16.513213 | R26: =+E17/$C$7 -> 11.808484 | S26: =+F17/$C$7 -> 12.882814 | T26: =+G17/$C$7 -> 11.875073 | U26: =+H17/$C$7 -> 17.429717 | V26: =+I17/$C$7 -> 19.159334 | W26: =+J17/$C$7 -> 23.705898 | X26: =+K17/$C$7 -> 20.955347 | Y26: =+L17/$C$7 -> 18.567312
B27: Hydrous | C27: USD ´000 | D27: 111996.59 | E27: 178064.86 | F27: 205233.8 | G27: 88672 | H27: 109994 | I27: 104418 | J27: 98875 | K27: 162466 | L27: 233116 | O27: 3rd party commercialization | Q27: =+D20/$C$7 -> 17.621555 | R27: =+E20/$C$7 -> 16.17741 | S27: =+F20/$C$7 -> 13.397579 | T27: =+G20/$C$7 -> 0 | U27: =+H20/$C$7 -> 0 | V27: =+I20/$C$7 -> 0 | W27: =+J20/$C$7 -> 0 | X27: =+K20/$C$7 -> 0 | Y27: =+L20/$C$7 -> 15.989913
B28: Units | C28: m3 | D28: 239153.95 | E28: 411776.18 | F28: 486836.13 | G28: 251852.16 | H28: 212695.46 | I28: 162313 | J28: 228941.42 | K28: 381982.24 | L28: 498623.68 | O28: OOI | Q28: =+((D21*1000)/(D16+D19))/$C$7 -> 1.901973 | R28: =+((E21*1000)/(E16+E19))/$C$7 -> 4.8141356 | S28: =+((F21*1000)/(F16+F19))/$C$7 -> -0.0047740214 | T28: =+((G21*1000)/(G16+G19))/$C$7 -> 0.18575568 | U28: =+((H21*1000)/(H16+H19))/$C$7 -> -0.80487762 | V28: =+((I21*1000)/(I16+I19))/$C$7 -> -0.22497174 | W28: =+((J21*1000)/(J16+J19))/$C$7 -> 0.34374922 | X28: =+((K21*1000)/(K16+K19))/$C$7 -> 0.57988379 | Y28: =+((L21*1000)/(L16+L19))/$C$7 -> 0.026375405
B29: Units - Sugar Equivalent | C29: tons | D29: =+D28*$C$8/$C$10 -> 383474.54 | E29: =+E28*$C$8/$C$10 -> 660267.91 | F29: =+F28*$C$8/$C$10 -> 780623.78 | G29: =+G28*$C$8/$C$10 -> 403835.65 | H29: =+H28*$C$8/$C$10 -> 341049.33 | I29: =+I28*$C$8/$C$10 -> 260262.91 | J29: =+J28*$C$8/$C$10 -> 367099.12 | K29: =+K28*$C$8/$C$10 -> 612494.43 | L29: =+L28*$C$8/$C$10 -> 799524.68 | O29: Freight | Q29: =+IF('1. Total Cash Cost Evolution '!C11="Price",((D24*1000)/(D16+D19))/$C$7,0) -> 0 | R29: =+IF('1. Total Cash Cost Evolution '!C11="Price",((E24*1000)/(E16+E19))/$C$7,0) -> 0 | S29: =+IF('1. Total Cash Cost Evolution '!$C$11="Price",((F24*1000)/(F16+F19))/$C$7,0) -> 0 | T29: =+IF('1. Total Cash Cost Evolution '!$C$11="Price",((G24*1000)/(G16+G19))/$C$7,0) -> 0 | U29: =+IF('1. Total Cash Cost Evolution '!$C$11="Price",((H24*1000)/(H16+H19))/$C$7,0) -> 0 | V29: =+IF('1. Total Cash Cost Evolution '!$C$11="Price",((I24*1000)/(I16+I19))/$C$7,0) -> 0 | W29: =+IF('1. Total Cash Cost Evolution '!$C$11="Price",((J24*1000)/(J16+J19))/$C$7,0) -> 0 | X29: =+IF('1. Total Cash Cost Evolution '!$C$11="Price",((K24*1000)/(K16+K19))/$C$7,0) -> 0 | Y29: =+IF('1. Total Cash Cost Evolution '!$C$11="Price",((L24*1000)/(L16+L19))/$C$7,0) -> 0
B30: Selling Net Price | C30: USD/m3 | D30: 468.30331 | E30: 432.43119 | F30: 421.56649 | G30: 352.07957 | H30: 517.14314 | I30: 643.31261 | J30: 431.87904 | K30: 425.32344 | L30: 467.51891 | O30: Ethanol Price | Q30: =+Q31+Q33+Q32 -> 13.679069 | R30: =+R31+R33+R32 -> 12.718707 | S30: =+S31+S33+S32 -> 12.200348 | T30: =+T31+T33+T32 -> 10.125481 | U30: =+U31+U33+U32 -> 15.560219 | V30: =+V31+V33+V32 -> 18.355565 | W30: =+W31+W33+W32 -> 13.951585 | X30: =+X31+X33+X32 -> 12.283956 | Y30: =+Y31+Y33+Y32 -> 13.47894
B31: Anhydrous | C31: USD ´000 | D31: 104979.43 | E31: 113680.71 | F31: 131866.85 | G31: 91897 | H31: 161549 | I31: 267304 | J31: 134419 | K31: 80388 | L31: 76427 | O31: Average Selling Price | Q31: =+((D30/C8*C10)*D44+(D34/C9*C10)*D45)/C7 -> 13.629382 | R31: =+((E30/C8*C10)*E44+(E34/C9*C10)*E45)/C7 -> 12.708089 | S31: =+((F30/C8*C10)*F44+(F34/C9*C10)*F45)/C7 -> 12.203329 | T31: =+((((G27/G29)*1000)*G44)+(((G31/G33)*1000)*G45))/C7 -> 10.164924 | U31: =+(((H27/H29)*1000)/C7*H44)+(((H31/H33)*1000)/C7*H45) -> 15.759427 | V31: =+(((I27/I29)*1000)/C7*I44)+(((I31/I33)*1000)/C7*I45) -> 18.355565 | W31: =+(((J27/J29)*1000)/C7*J44)+(((J31/J33)*1000)/C7*J45) -> 13.951585 | X31: =+((K27*1000/K29)/C7*K44)+(((K31*1000/K33))/C7*K45) -> 12.283956 | Y31: =+((L27*1000/L29)/C7*L44)+(((L31*1000/L33))/C7*L45) -> 13.47894
B32: Units | C32: m3 | D32: 200539.9 | E32: 225669.35 | F32: 279737.22 | G32: 238020.94 | H32: 260874.62 | I32: 389858 | J32: 231779.69 | K32: 168339.71 | L32: 143401.42 | O32: Tax Recovery | Q32: =IF('1. Total Cash Cost Evolution '!$C$10="Price",((28477.8928907343*1000)/(D29+D33)/$C$7),0) -> 0 | R32: =IF('1. Total Cash Cost Evolution '!$C$10="Price",((32380.2666823791*1000)/(E29+E33)/$C$7),0) -> 0 | S32: =IF('1. Total Cash Cost Evolution '!$C$10="Price",((34721.5*1000)/(F29+F33)/$C$7),0) -> 0 | T32: =IF('1. Total Cash Cost Evolution '!$C$10="Price",((18062.1122628442*1000)/(G29+G33)/$C$7),0) -> 0 | U32: =IF('1. Total Cash Cost Evolution '!$C$10="Price",((23367.0363433497*1000)/(H29+H33)/$C$7),0) -> 0 | V32: =IF('1. Total Cash Cost Evolution '!$C$10="Price",((19780*1000)/(I29+I33)/$C$7),0) -> 0 | W32: =IF('1. Total Cash Cost Evolution '!$C$10="Price",((22626*1000)/(J29+J33)/$C$7),0) -> 0 | X32: =IF('1. Total Cash Cost Evolution '!$C$10="Price",((36992*1000)/(K29+K33)/$C$7),0) -> 0 | Y32: =IF('1. Total Cash Cost Evolution '!$C$10="Price",((42178*1000)/(L29+L33)/$C$7),0) -> 0
B33: Units - Sugar Equivalent | C33: tons | D33: =+D32*$C$9/$C$10 -> 338632.91 | E33: =+E32*$C$9/$C$10 -> 381066.65 | F33: =+F32*$C$9/$C$10 -> 472365.99 | G33: =+G32*$C$9/$C$10 -> 401923.62 | H33: =+H32*$C$9/$C$10 -> 440514.48 | I33: =+I32*$C$9/$C$10 -> 658316.61 | J33: =+J32*$C$9/$C$10 -> 391384.61 | K33: =+K32*$C$9/$C$10 -> 284259.47 | L33: =+L32*$C$9/$C$10 -> 242148.52 | O33: OOI | Q33: =+((D35*1000)/(D29+D33)/$C$7) -> 0.049686966 | R33: =+((E35*1000)/(E29+E33)/$C$7) -> 0.010618269 | S33: =+((F35*1000)/(F29+F33)/$C$7) -> -0.0029811397 | T33: =+((G35*1000)/(G29+G33)/$C$7) -> -0.039442677 | U33: =+((H35*1000)/(H29+H33)/$C$7) -> -0.19920784 | V33: =+((I35*1000)/(I29+I33)/$C$7) -> 0 | W33: =+((J35*1000)/(J29+J33)/$C$7) -> 0 | X33: =+((K35*1000)/(K29+K33)/$C$7) -> 0 | Y33: =+((L35*1000)/(L29+L33)/$C$7) -> 0
B34: Selling Net Price | C34: USD/m3 | D34: 523.484 | E34: 503.74899 | F34: 471.39544 | G34: 386.08788 | H34: 619.25917 | I34: 685.64452 | J34: 579.94296 | K34: 477.53439 | L34: 532.95846 | O34: EBITDA PRICE | Q34: =+Q25*D40+Q30*D41 -> 16.356836 | R34: =+R25*E40+R30*E41 -> 14.213388 | S34: =+S25*F40+S30*F41 -> 12.382916 | T34: =+T25*G40+T30*G41 -> 10.983006 | U34: =+U25*H40+U30*H41 -> 15.994038 | V34: =+V25*I40+V30*I41 -> 18.540299 | W34: =+W25*J40+W30*J41 -> 19.123414 | X34: =+X25*K40+X30*K41 -> 16.774356 | Y34: =+Y25*L40+Y30*L41 -> 15.397154
B35: OOI - Ethanol | C35: USD ´000 | D35: 791.00285 | E35: 243.76859 | F35: -82.35 | G35: -700.65695 | H35: -3432.4531 | I35: 0 | J35: 0 | K35: 0 | L35: 0
B36: Campaign | C36: USD ´000 | D36: 791.00285 | E36: 243.76859 | F36: -82.35 | G36: -681.35358 | H36: -3432.4531 | I36: 0 | J36: 0 | K36: 0 | L36: 0
B37: Campaign + 1 | C37: USD ´000 | D37: 0 | E37: 0 | F37: 0 | G37: -19.303375 | H37: 0 | I37: 0 | J37: 0 | K37: 0 | L37: 0
A39: x | B39: Sugar - Ethanol Mix
B40: Sugar | C40: % | D40: 0.53251799 | E40: 0.30244891 | F40: 0.21217237 | G40: 0.44308555 | H40: 0.40748687 | I40: 0.31916846 | J40: 0.51216051 | K40: =+(K16+K19)/(K16+K19+K33+K29) -> 0.48538172 | L40: =+(L16+L19)/(L16+L19+L33+L29) -> 0.38613189
B41: Ethanol | C41: % | D41: 0.46748201 | E41: 0.69755109 | F41: 0.78782763 | G41: 0.55691445 | H41: 0.59251313 | I41: 0.68083154 | J41: 0.48783949 | K41: =+(K33+K29)/(K16+K19+K33+K29) -> 0.51461828 | L41: =+(L33+L29)/(L16+L19+L33+L29) -> 0.61386811
A43: x | B43: Ethanol Selling Mix
B44: Hydrous | C44: % | D44: =+D29/(D29+D33) -> 0.53104914 | E44: =+E29/(E29+E33) -> 0.63405935 | F44: =+F29/(F29+F33) -> 0.6230089 | G44: =+G29/(G29+G33) -> 0.50118647 | H44: =+H29/(H29+H33) -> 0.43636787 | I44: =+I29/(I29+I33) -> 0.28333193 | J44: =+J29/(J29+J33) -> 0.48399077 | K44: =+K29/(K29+K33) -> 0.68301285 | L44: =+L29/(L29+L33) -> 0.76753888
B45: Anhydrous | C45: % | D45: =+D33/(D29+D33) -> 0.46895086 | E45: =+E33/(E29+E33) -> 0.36594065 | F45: =+F33/(F29+F33) -> 0.3769911 | G45: =+G33/(G29+G33) -> 0.49881353 | H45: =+H33/(H29+H33) -> 0.56363213 | I45: =+I33/(I29+I33) -> 0.71666807 | J45: =+J33/(J29+J33) -> 0.51600923 | K45: =+K33/(K29+K33) -> 0.31698715 | L45: =+L33/(L29+L33) -> 0.23246112

Sheet 3. EBITDA Calculation
B1: EBITDA Calculation
A6: x | B6: Main Metrics | D6: 2017 | E6: 2018 | F6: 2019 | G6: 2020 | H6: 2021 | I6: 2022 | J6: 2023 | K6: 2024 | L6: 2025
B7: Milling in Th. Tons | D7: =+'1. Total Cash Cost Evolution '!D14 -> 10241.803 | E7: =+'1. Total Cash Cost Evolution '!E14 -> 11359.204 | F7: =+'1. Total Cash Cost Evolution '!G14 -> 10845.136 | G7: =+'1. Total Cash Cost Evolution '!H14 -> 11103.2 | H7: =+'1. Total Cash Cost Evolution '!I14 -> 10940.307 | I7: =+'1. Total Cash Cost Evolution '!K14 -> 10484.888 | J7: =+'1. Total Cash Cost Evolution '!L14 -> 12497.423 | K7: =+'1. Total Cash Cost Evolution '!M14 -> 12762.597 | L7: =+'1. Total Cash Cost Evolution '!O14 -> 12145.212
B8: kg of TRS/ton | D8: =+'1. Total Cash Cost Evolution '!D15 -> 127.01385 | E8: =+'1. Total Cash Cost Evolution '!E15 -> 127.61692 | F8: =+'1. Total Cash Cost Evolution '!G15 -> 132.92953 | G8: =+'1. Total Cash Cost Evolution '!H15 -> 131.52128 | H8: =+'1. Total Cash Cost Evolution '!I15 -> 127.83652 | I8: =+'1. Total Cash Cost Evolution '!K15 -> 130.67328 | J8: =+'1. Total Cash Cost Evolution '!L15 -> 131.6449 | K8: =+'1. Total Cash Cost Evolution '!M15 -> 132.3843 | L8: =+'1. Total Cash Cost Evolution '!O15 -> 127.49717
B9: Tons of TRS | D9: =+D7*D8 -> 1300850.8 | E9: =+E7*E8 -> 1449626.6 | F9: =+F7*F8 -> 1441638.8 | G9: =+G7*G8 -> 1460307.1 | H9: =+H7*H8 -> 1398570.7 | I9: =+I7*I8 -> 1370094.8 | J9: =+J7*J8 -> 1645222 | K9: =+K7*K8 -> 1689567.5 | L9: =+L7*L8 -> 1548480.2
B10: Tons of Sugar | D10: =+D9/'2. EBITDA Price 2017-25'!$C$10 -> 1244476 | E10: =+E9/'2. EBITDA Price 2017-25'!$C$10 -> 1386804.4 | F10: =+F9/'2. EBITDA Price 2017-25'!$C$10 -> 1379162.7 | G10: =+G9/'2. EBITDA Price 2017-25'!$C$10 -> 1397022 | H10: =+H9/'2. EBITDA Price 2017-25'!$C$10 -> 1337961.1 | I10: =+I9/'2. EBITDA Price 2017-25'!$C$10 -> 1310719.2 | J10: =+J9/'2. EBITDA Price 2017-25'!$C$10 -> 1573923.3 | K10: =+K9/'2. EBITDA Price 2017-25'!$C$10 -> 1616347 | L10: =+L9/'2. EBITDA Price 2017-25'!$C$10 -> 1481374
B11: TRS Price in cts/lbs sugar equiv. | D11: =+'2. EBITDA Price 2017-25'!Q26*'2. EBITDA Price 2017-25'!D16/('2. EBITDA Price 2017-25'!D16+'2. EBITDA Price 2017-25'!D29+'2. EBITDA Price 2017-25'!D33)+'2. EBITDA Price 2017-25'!Q31*('2. EBITDA Price 2017-25'!D29+'2. EBITDA Price 2017-25'!D33)/('2. EBITDA Price 2017-25'!D16+'2. EBITDA Price 2017-25'!D29+'2. EBITDA Price 2017-25'!D33) -> 14.944735 | E11: =+'2. EBITDA Price 2017-25'!R26*'2. EBITDA Price 2017-25'!E16/('2. EBITDA Price 2017-25'!E16+'2. EBITDA Price 2017-25'!E29+'2. EBITDA Price 2017-25'!E33)+'2. EBITDA Price 2017-25'!R31*('2. EBITDA Price 2017-25'!E29+'2. EBITDA Price 2017-25'!E33)/('2. EBITDA Price 2017-25'!E16+'2. EBITDA Price 2017-25'!E29+'2. EBITDA Price 2017-25'!E33) -> 12.484588 | F11: =+'2. EBITDA Price 2017-25'!S26*'2. EBITDA Price 2017-25'!F16/('2. EBITDA Price 2017-25'!F16+'2. EBITDA Price 2017-25'!F29+'2. EBITDA Price 2017-25'!F33)+'2. EBITDA Price 2017-25'!S31*('2. EBITDA Price 2017-25'!F29+'2. EBITDA Price 2017-25'!F33)/('2. EBITDA Price 2017-25'!F16+'2. EBITDA Price 2017-25'!F29+'2. EBITDA Price 2017-25'!F33) -> 12.303882 | G11: =+'2. EBITDA Price 2017-25'!T26*'2. EBITDA Price 2017-25'!G16/('2. EBITDA Price 2017-25'!G16+'2. EBITDA Price 2017-25'!G29+'2. EBITDA Price 2017-25'!G33)+'2. EBITDA Price 2017-25'!T31*('2. EBITDA Price 2017-25'!G29+'2. EBITDA Price 2017-25'!G33)/('2. EBITDA Price 2017-25'!G16+'2. EBITDA Price 2017-25'!G29+'2. EBITDA Price 2017-25'!G33) -> 10.922666 | H11: =+'2. EBITDA Price 2017-25'!U26*'2. EBITDA Price 2017-25'!H16/('2. EBITDA Price 2017-25'!H16+'2. EBITDA Price 2017-25'!H29+'2. EBITDA Price 2017-25'!H33)+'2. EBITDA Price 2017-25'!U31*('2. EBITDA Price 2017-25'!H29+'2. EBITDA Price 2017-25'!H33)/('2. EBITDA Price 2017-25'!H16+'2. EBITDA Price 2017-25'!H29+'2. EBITDA Price 2017-25'!H33) -> 16.440048 | I11: =+'2. EBITDA Price 2017-25'!V26*'2. EBITDA Price 2017-25'!I16/('2. EBITDA Price 2017-25'!I16+'2. EBITDA Price 2017-25'!I29+'2. EBITDA Price 2017-25'!I33)+'2. EBITDA Price 2017-25'!V31*('2. EBITDA Price 2017-25'!I29+'2. EBITDA Price 2017-25'!I33)/('2. EBITDA Price 2017-25'!I16+'2. EBITDA Price 2017-25'!I29+'2. EBITDA Price 2017-25'!I33) -> 18.612103 | J11: =+'2. EBITDA Price 2017-25'!W26*'2. EBITDA Price 2017-25'!J16/('2. EBITDA Price 2017-25'!J16+'2. EBITDA Price 2017-25'!J29+'2. EBITDA Price 2017-25'!J33)+'2. EBITDA Price 2017-25'!W31*('2. EBITDA Price 2017-25'!J29+'2. EBITDA Price 2017-25'!J33)/('2. EBITDA Price 2017-25'!J16+'2. EBITDA Price 2017-25'!J29+'2. EBITDA Price 2017-25'!J33) -> 18.947359 | K11: =+'2. EBITDA Price 2017-25'!X26*'2. EBITDA Price 2017-25'!K16/('2. EBITDA Price 2017-25'!K16+'2. EBITDA Price 2017-25'!K29+'2. EBITDA Price 2017-25'!K33)+'2. EBITDA Price 2017-25'!X31*('2. EBITDA Price 2017-25'!K29+'2. EBITDA Price 2017-25'!K33)/('2. EBITDA Price 2017-25'!K16+'2. EBITDA Price 2017-25'!K29+'2. EBITDA Price 2017-25'!K33) -> 16.492891 | L11: =+'2. EBITDA Price 2017-25'!Y26*'2. EBITDA Price 2017-25'!L16/('2. EBITDA Price 2017-25'!L16+'2. EBITDA Price 2017-25'!L29+'2. EBITDA Price 2017-25'!L33)+'2. EBITDA Price 2017-25'!Y31*('2. EBITDA Price 2017-25'!L29+'2. EBITDA Price 2017-25'!L33)/('2. EBITDA Price 2017-25'!L16+'2. EBITDA Price 2017-25'!L29+'2. EBITDA Price 2017-25'!L33) -> 15.373394
B12: Sugar Cost cts/lbs | D12: =+'1. Total Cash Cost Evolution '!I39 -> 9.617074 | E12: =+'1. Total Cash Cost Evolution '!M39 -> 7.1920426 | F12: =+'1. Total Cash Cost Evolution '!Q39 -> 6.8385666 | G12: =+'1. Total Cash Cost Evolution '!U39 -> 5.3529919 | H12: =+'1. Total Cash Cost Evolution '!Y39 -> 7.4144123 | I12: =+'1. Total Cash Cost Evolution '!AC39 -> 9.1517756 | J12: =+'1. Total Cash Cost Evolution '!AG39 -> 9.6408494 | K12: =+'1. Total Cash Cost Evolution '!AK39 -> 8.9840711 | L12: =+'1. Total Cash Cost Evolution '!AO39 -> 9.5272091
B13: Margin cts/lbs | D13: =+D11-D12 -> 5.3276606 | E13: =+E11-E12 -> 5.2925459 | F13: =+F11-F12 -> 5.4653159 | G13: =+G11-G12 -> 5.5696745 | H13: =+H11-H12 -> 9.0256362 | I13: =+I11-I12 -> 9.4603272 | J13: =+J11-J12 -> 9.3065095 | K13: =+K11-K12 -> 7.5088197 | L13: =+L11-L12 -> 5.8461851
B14: Margin $/ton | D14: =+D13*22.045 -> 117.44828 | E14: =+E13*22.045 -> 116.67418 | F14: =+F13*22.045 -> 120.48289 | G14: =+G13*22.045 -> 122.78347 | H14: =+H13*22.045 -> 198.97015 | I14: =+I13*22.045 -> 208.55291 | J14: =+J13*22.045 -> 205.162 | K14: =+K13*22.045 -> 165.53193 | L14: =+L13*22.045 -> 128.87915
A16: x | B16: EBITDA Calculation | D16: 2017 | E16: 2018 | F16: 2019 | G16: =+G6 -> 2020 | H16: =+H6 -> 2021 | I16: 2022 | J16: 2023 | K16: 2024 | L16: 2025
B17: Revenues | C17: USD '000 | D17: =+(D19*D20)/1000 -> 557018.96 | E17: =+(E19*E20)/1000 -> 467784.27 | F17: =+(F19*F20)/1000 -> 434183.16 | G17: =+(G19*G20)/1000 -> 350325.53 | H17: =+(H19*H20)/1000 -> 465112.85 | I17: =+(I19*I20)/1000 -> 551477.21 | J17: =+(J19*J20)/1000 -> 655493.63 | K17: =+(K19*K20)/1000 -> 644418 | L17: =+(L19*L20)/1000 -> 576010.79
B18: EBITDA Price | C18: cts/lb | D18: =+'2. EBITDA Price 2017-25'!Q34 -> 16.356836 | E18: =+'2. EBITDA Price 2017-25'!R34 -> 14.213388 | F18: =+'2. EBITDA Price 2017-25'!S34 -> 12.382916 | G18: =+'2. EBITDA Price 2017-25'!T34 -> 10.983006 | H18: =+'2. EBITDA Price 2017-25'!U34 -> 15.994038 | I18: =+'2. EBITDA Price 2017-25'!V34 -> 18.540299 | J18: =+'2. EBITDA Price 2017-25'!W34 -> 19.123414 | K18: =+'2. EBITDA Price 2017-25'!X34 -> 16.774356 | L18: =+'2. EBITDA Price 2017-25'!Y34 -> 15.397154
B19: EBITDA Price | C19: USD/ton | D19: =+D18*'2. EBITDA Price 2017-25'!$C$7 -> 360.60608 | E19: =+E18*'2. EBITDA Price 2017-25'!$C$7 -> 313.3512 | F19: =+F18*'2. EBITDA Price 2017-25'!$C$7 -> 272.99623 | G19: =+G18*'2. EBITDA Price 2017-25'!$C$7 -> 242.13354 | H19: =+H18*'2. EBITDA Price 2017-25'!$C$7 -> 352.60776 | I19: =+I18*'2. EBITDA Price 2017-25'!$C$7 -> 408.74314 | J19: =+J18*'2. EBITDA Price 2017-25'!$C$7 -> 421.5986 | K19: =+K18*'2. EBITDA Price 2017-25'!$C$7 -> 369.8108 | L19: =+L18*'2. EBITDA Price 2017-25'!$C$7 -> 339.44874
B20: Selling Volume | C20: tons | D20: =+'2. EBITDA Price 2017-25'!D16+'2. EBITDA Price 2017-25'!D19+'2. EBITDA Price 2017-25'!D29+'2. EBITDA Price 2017-25'!D33 -> 1544674.3 | E20: =+'2. EBITDA Price 2017-25'!E16+'2. EBITDA Price 2017-25'!E19+'2. EBITDA Price 2017-25'!E29+'2. EBITDA Price 2017-25'!E33 -> 1492843.4 | F20: =+'2. EBITDA Price 2017-25'!F16+'2. EBITDA Price 2017-25'!F19+'2. EBITDA Price 2017-25'!F29+'2. EBITDA Price 2017-25'!F33 -> 1590436.4 | G20: =+'2. EBITDA Price 2017-25'!G16+'2. EBITDA Price 2017-25'!G19+'2. EBITDA Price 2017-25'!G29+'2. EBITDA Price 2017-25'!G33 -> 1446827.7 | H20: =+'2. EBITDA Price 2017-25'!H16+'2. EBITDA Price 2017-25'!H19+'2. EBITDA Price 2017-25'!H29+'2. EBITDA Price 2017-25'!H33 -> 1319065.8 | I20: =+'2. EBITDA Price 2017-25'!I16+'2. EBITDA Price 2017-25'!I19+'2. EBITDA Price 2017-25'!I29+'2. EBITDA Price 2017-25'!I33 -> 1349202.4 | J20: =+'2. EBITDA Price 2017-25'!J16+'2. EBITDA Price 2017-25'!J19+'2. EBITDA Price 2017-25'!J29+'2. EBITDA Price 2017-25'!J33 -> 1554781.3 | K20: =+'2. EBITDA Price 2017-25'!K16+'2. EBITDA Price 2017-25'!K19+'2. EBITDA Price 2017-25'!K29+'2. EBITDA Price 2017-25'!K33 -> 1742561.3 | L20: =+'2. EBITDA Price 2017-25'!L16+'2. EBITDA Price 2017-25'!L19+'2. EBITDA Price 2017-25'!L29+'2. EBITDA Price 2017-25'!L33 -> 1696900.7
B21: Cost | C21: USD '000 | D21: =+(D23*D24)/1000 -> -331880.98 | E21: =+(E23*E24)/1000 -> -286422.31 | F21: =+(F23*F24)/1000 -> -274157.95 | G21: =+(G23*G24)/1000 -> -242454.07 | H21: =+(H23*H24)/1000 -> -310013.89 | I21: =+(I23*I24)/1000 -> -377882.6 | J21: =+(J23*J24)/1000 -> -481028.87 | K21: =+(K23*K24)/1000 -> -450966.35 | L21: =+(L23*L24)/1000 -> -417796.94
B22: Cash Cost (without freight costs & taxes) | C22: cts/lb | D22: =-'1. Total Cash Cost Evolution '!I45 -> -12.096566 | E22: =-'1. Total Cash Cost Evolution '!M45 -> -9.3682376 | F22: =-'1. Total Cash Cost Evolution '!Q45 -> -9.0167825 | G22: =-'1. Total Cash Cost Evolution '!U45 -> -7.8721344 | H22: =-'1. Total Cash Cost Evolution '!Y45 -> -10.510029 | I22: =-'1. Total Cash Cost Evolution '!AC45 -> -13.077161 | J22: =-'1. Total Cash Cost Evolution '!AG45 -> -13.862892 | K22: =-'1. Total Cash Cost Evolution '!AK45 -> -12.655398 | L22: =-'1. Total Cash Cost Evolution '!AO45 -> -12.792835
B23: Cash Cost (without freight costs & taxes) | C23: USD/ton | D23: =+D22*'2. EBITDA Price 2017-25'!$C$7 -> -266.68331 | E23: =+E22*'2. EBITDA Price 2017-25'!$C$7 -> -206.53404 | F23: =+F22*'2. EBITDA Price 2017-25'!$C$7 -> -198.78579 | G23: =+G22*'2. EBITDA Price 2017-25'!$C$7 -> -173.55065 | H23: =+H22*'2. EBITDA Price 2017-25'!$C$7 -> -231.7062 | I23: =+I22*'2. EBITDA Price 2017-25'!$C$7 -> -288.30171 | J23: =+J22*'2. EBITDA Price 2017-25'!$C$7 -> -305.62409 | K23: =+K22*'2. EBITDA Price 2017-25'!$C$7 -> -279.00343 | L23: =+L22*'2. EBITDA Price 2017-25'!$C$7 -> -282.0334
B24: Production Volume | C24: tons | D24: =+('1. Total Cash Cost Evolution '!D14*'1. Total Cash Cost Evolution '!D15)*'1. Total Cash Cost Evolution '!D17 -> 1244476 | E24: =+('1. Total Cash Cost Evolution '!E14*'1. Total Cash Cost Evolution '!E15)*'1. Total Cash Cost Evolution '!E17 -> 1386804.4 | F24: =+('1. Total Cash Cost Evolution '!G14*'1. Total Cash Cost Evolution '!G15)*'1. Total Cash Cost Evolution '!G17 -> 1379162.7 | G24: =+('1. Total Cash Cost Evolution '!H14*'1. Total Cash Cost Evolution '!H15)*'1. Total Cash Cost Evolution '!H17 -> 1397022 | H24: =+('1. Total Cash Cost Evolution '!I14*'1. Total Cash Cost Evolution '!I15)*'1. Total Cash Cost Evolution '!I17 -> 1337961.1 | I24: =+('1. Total Cash Cost Evolution '!K14*'1. Total Cash Cost Evolution '!K15)*'1. Total Cash Cost Evolution '!K17 -> 1310719.2 | J24: =+('1. Total Cash Cost Evolution '!L14*'1. Total Cash Cost Evolution '!L15)*'1. Total Cash Cost Evolution '!L17 -> 1573923.3 | K24: =+('1. Total Cash Cost Evolution '!M14*'1. Total Cash Cost Evolution '!M15)*'1. Total Cash Cost Evolution '!M17 -> 1616347 | L24: =+('1. Total Cash Cost Evolution '!O14*'1. Total Cash Cost Evolution '!O15)*'1. Total Cash Cost Evolution '!O17 -> 1481374
B25: Total Margin | C25: USD '000 | D25: =+D17+D21 -> 225137.97 | E25: =+E17+E21 -> 181361.97 | F25: =+F17+F21 -> 160025.21 | G25: =+G17+G21 -> 107871.46 | H25: =+H17+H21 -> 155098.96 | I25: =+I17+I21 -> 173594.61 | J25: =+J17+J21 -> 174464.77 | K25: =+K17+K21 -> 193451.65 | L25: =+L17+L21 -> 158213.85
B26: Maintenance Capex | C26: USD '000 | D26: 122522.61 | E26: 117269 | F26: 121946.4 | G26: 105419.63 | H26: 127908.55 | I26: 140665.03 | J26: 175540.9 | K26: 157573.31 | L26: 133191.08
B27: Non Derivative OOI | C27: USD '000 | D27: -2947 | E27: -1222.8854 | F27: -30.393189 | G27: 299.14231 | H27: -32828.68 | I27: 4672.1834 | J27: 13123.884 | K27: 13134.239 | L27: 5226.9343
B28: Purchases | C28: USD '000 | D28: -93106 | E28: -43531 | F28: -46066.98 | G28: -6663.5254 | H28: -4860 | I28: -1254.7441 | J28: -1011 | K28: -1837 | L28: -5922
B29: Inventories NET | C29: USD '000 | D29: -17335 | E29: 7671 | F29: -3072.6401 | G29: -2492.0567 | H29: 45560.071 | I29: 7661.5502 | J29: 38836.765 | K29: -33059.361 | L29: -33884.58
B30: Harvested Muda | C30: USD '000 | D30: 2724.9195 | E30: 2961.815 | F30: 3178.5722 | G30: 2367.8624 | H30: 5394.6348 | I30: -6569.6432 | J30: 7479 | K30: 7257 | L30: 4335
B31: Unharvest (Model Variation) | C31: USD '000 | D31: 10796.982 | E31: -45702 | F31: 7880.5184 | G31: 16151 | H31: -7142 | I31: 40221.626 | J31: 8039.7331 | K31: -49259.329 | L31: 56143.921
B32: Exchange Difference | C32: USD '000 | D32: -493.51355 | E32: 19475.839 | F32: 11252.738 | G32: 33106.519 | H32: 35732.382 | I32: 18028.631 | J32: -23890 | K32: 69653.727 | L32: -19644.513
B33: Cbios Margin | C33: USD '000 | G33: 3695.3934 | H33: 4065.7499 | I33: 1126 | J33: -198 | K33: 272 | L33: -110
B34: Crops Margin | C34: USD '000 | G34: 0 | H34: 2870 | I34: -322.51572 | J34: -867 | K34: -2290 | L34: -4510
B35: Impact of IFRS 16 cane depreciation | C35: USD '000 | D35: 0 | E35: 0 | F35: -2044 | G35: -2910.7033 | H35: -898.1809 | I35: -3426.3266 | J35: 0 | K35: 0 | L35: 0
B36: Others | C36: USD '000 | G36: -3053.8345 | H36: 3952.4752 | I36: -626.40914 | J36: 4117.9468 | K36: 9263.7674 | L36: -1501.7
B37: EBITDA | C37: USD '000 | D37: =+SUM(D25:D35) -> 247300.97 | E37: =+SUM(E25:E35) -> 238283.73 | F37: =+SUM(F25:F35) -> 253069.42 | G37: =+SUM(G25:G36) -> 253790.89 | H37: =+SUM(H25:H36) -> 334853.96 | I37: =+SUM(I25:I36) -> 373770 | J37: =+SUM(J25:J36) -> 395637 | K37: =+SUM(K25:K36) -> 364160 | L37: =+SUM(L25:L36) -> 291538
